BEGIN:VCALENDAR
VERSION:2.0
PRODID:JMS Hockey
X-PUBLISHED-TTL:P1W
BEGIN:VEVENT
UID:69e79d53455d6
DTSTART:20130928T021500Z
SEQUENCE:0
TRANSP:OPAQUE
DTEND:20130928T034500Z
URL:http://jmshockey.com/games/5347
LOCATION:St Louis Park Rec Center
SUMMARY:Intermediate Game at St Louis Park Rec Center
CLASS:PUBLIC
DTSTAMP:20260421T105251Z
END:VEVENT
END:VCALENDAR