BEGIN:VCALENDAR
VERSION:2.0
PRODID:JMS Hockey
X-PUBLISHED-TTL:P1W
BEGIN:VEVENT
UID:69e7ca7dce66a
DTSTART:20130907T024500Z
SEQUENCE:0
TRANSP:OPAQUE
DTEND:20130907T041500Z
URL:http://jmshockey.com/games/5341
LOCATION:St Louis Park Rec Center
SUMMARY:Upper Level Game at St Louis Park Rec Center
CLASS:PUBLIC
DTSTAMP:20260421T140533Z
END:VEVENT
END:VCALENDAR