BEGIN:VCALENDAR
VERSION:2.0
PRODID:JMS Hockey
X-PUBLISHED-TTL:P1W
BEGIN:VEVENT
UID:69e7cd0a4e093
DTSTART:20130928T021500Z
SEQUENCE:0
TRANSP:OPAQUE
DTEND:20130928T034500Z
URL:http://jmshockey.com/games/5339
LOCATION:Eden Prairie Comm Ctr
SUMMARY:Intermediate Game at Eden Prairie Comm Ctr
CLASS:PUBLIC
DTSTAMP:20260421T141626Z
END:VEVENT
END:VCALENDAR