BEGIN:VCALENDAR
VERSION:2.0
PRODID:JMS Hockey
X-PUBLISHED-TTL:P1W
BEGIN:VEVENT
UID:69e7a78b29201
DTSTART:20130829T020000Z
SEQUENCE:0
TRANSP:OPAQUE
DTEND:20130829T033000Z
URL:http://jmshockey.com/games/5324
LOCATION:Maple Grove
SUMMARY:Upper Level Game at Maple Grove
CLASS:PUBLIC
DTSTAMP:20260421T113627Z
END:VEVENT
END:VCALENDAR