BEGIN:VCALENDAR
VERSION:2.0
PRODID:JMS Hockey
X-PUBLISHED-TTL:P1W
BEGIN:VEVENT
UID:69e7cae4c3def
DTSTART:20130809T004500Z
SEQUENCE:0
TRANSP:OPAQUE
DTEND:20130809T021500Z
URL:http://jmshockey.com/games/5294
LOCATION:Roseville Skating Center
SUMMARY:Level 3 Game at Roseville Skating Center
CLASS:PUBLIC
DTSTAMP:20260421T140716Z
END:VEVENT
END:VCALENDAR