BEGIN:VCALENDAR
VERSION:2.0
PRODID:JMS Hockey
X-PUBLISHED-TTL:P1W
BEGIN:VEVENT
UID:69e7b2d8c2019
DTSTART:20090512T023000Z
SEQUENCE:0
TRANSP:OPAQUE
DTEND:20090512T040000Z
URL:http://jmshockey.com/games/529
LOCATION:Bloomington Ice Gardens
SUMMARY:Level 1 Game at Bloomington Ice Gardens
CLASS:PUBLIC
DTSTAMP:20260421T122440Z
END:VEVENT
END:VCALENDAR