BEGIN:VCALENDAR
VERSION:2.0
PRODID:JMS Hockey
X-PUBLISHED-TTL:P1W
BEGIN:VEVENT
UID:69e7c3bb6a67f
DTSTART:20130806T014000Z
SEQUENCE:0
TRANSP:OPAQUE
DTEND:20130806T031000Z
URL:http://jmshockey.com/games/5279
LOCATION:Doug Woog Arena (Wakota)
SUMMARY:Lower Level Game at Doug Woog Arena (Wakota)
CLASS:PUBLIC
DTSTAMP:20260421T133643Z
END:VEVENT
END:VCALENDAR