BEGIN:VCALENDAR
VERSION:2.0
PRODID:JMS Hockey
X-PUBLISHED-TTL:P1W
BEGIN:VEVENT
UID:69e7c35360531
DTSTART:20130723T004000Z
SEQUENCE:0
TRANSP:OPAQUE
DTEND:20130723T021000Z
URL:http://jmshockey.com/games/5277
LOCATION:Doug Woog Arena (Wakota)
SUMMARY:Lower Level Game at Doug Woog Arena (Wakota)
CLASS:PUBLIC
DTSTAMP:20260421T133459Z
END:VEVENT
END:VCALENDAR