BEGIN:VCALENDAR
VERSION:2.0
PRODID:JMS Hockey
X-PUBLISHED-TTL:P1W
BEGIN:VEVENT
UID:69e7b12dd7e17
DTSTART:20130726T024000Z
SEQUENCE:0
TRANSP:OPAQUE
DTEND:20130726T041000Z
URL:http://jmshockey.com/games/5262
LOCATION:St Thomas Ice Arena
SUMMARY:All level Game at St Thomas Ice Arena
CLASS:PUBLIC
DTSTAMP:20260421T121733Z
END:VEVENT
END:VCALENDAR