BEGIN:VCALENDAR
VERSION:2.0
PRODID:JMS Hockey
X-PUBLISHED-TTL:P1W
BEGIN:VEVENT
UID:69e7ef7d2d982
DTSTART:20090505T023000Z
SEQUENCE:0
TRANSP:OPAQUE
DTEND:20090505T040000Z
URL:http://jmshockey.com/games/523
LOCATION:Plymouth Ice Center
SUMMARY:Level 3 Game at Plymouth Ice Center
CLASS:PUBLIC
DTSTAMP:20260421T164325Z
END:VEVENT
END:VCALENDAR