BEGIN:VCALENDAR
VERSION:2.0
PRODID:JMS Hockey
X-PUBLISHED-TTL:P1W
BEGIN:VEVENT
UID:69e7c12708d44
DTSTART:20130702T004000Z
SEQUENCE:0
TRANSP:OPAQUE
DTEND:20130702T021000Z
URL:http://jmshockey.com/games/5227
LOCATION:Doug Woog Arena (Wakota)
SUMMARY:Lower Level Game at Doug Woog Arena (Wakota)
CLASS:PUBLIC
DTSTAMP:20260421T132543Z
END:VEVENT
END:VCALENDAR