BEGIN:VCALENDAR
VERSION:2.0
PRODID:JMS Hockey
X-PUBLISHED-TTL:P1W
BEGIN:VEVENT
UID:69e7c3573733c
DTSTART:20130620T013000Z
SEQUENCE:0
TRANSP:OPAQUE
DTEND:20130620T030000Z
URL:http://jmshockey.com/games/5210
LOCATION:Burnsville Arena
SUMMARY:Lower Level Game at Burnsville Arena
CLASS:PUBLIC
DTSTAMP:20260421T133503Z
END:VEVENT
END:VCALENDAR