BEGIN:VCALENDAR
VERSION:2.0
PRODID:JMS Hockey
X-PUBLISHED-TTL:P1W
BEGIN:VEVENT
UID:69e7e7305e848
DTSTART:20130612T014500Z
SEQUENCE:0
TRANSP:OPAQUE
DTEND:20130612T031500Z
URL:http://jmshockey.com/games/5203
LOCATION:Maple Grove
SUMMARY:Upper Level Game at Maple Grove
CLASS:PUBLIC
DTSTAMP:20260421T160800Z
END:VEVENT
END:VCALENDAR