BEGIN:VCALENDAR
VERSION:2.0
PRODID:JMS Hockey
X-PUBLISHED-TTL:P1W
BEGIN:VEVENT
UID:69e7ad7b3d3f4
DTSTART:20130810T013000Z
SEQUENCE:0
TRANSP:OPAQUE
DTEND:20130810T030000Z
URL:http://jmshockey.com/games/5190
LOCATION:Eden Prairie Comm Ctr
SUMMARY:Intermediate Game at Eden Prairie Comm Ctr
CLASS:PUBLIC
DTSTAMP:20260421T120147Z
END:VEVENT
END:VCALENDAR