BEGIN:VCALENDAR
VERSION:2.0
PRODID:JMS Hockey
X-PUBLISHED-TTL:P1W
BEGIN:VEVENT
UID:69e7f87f937bb
DTSTART:20130806T021500Z
SEQUENCE:0
TRANSP:OPAQUE
DTEND:20130806T034500Z
URL:http://jmshockey.com/games/5189
LOCATION:Eden Prairie Comm Ctr
SUMMARY:Intermediate Game at Eden Prairie Comm Ctr
CLASS:PUBLIC
DTSTAMP:20260421T172151Z
END:VEVENT
END:VCALENDAR