BEGIN:VCALENDAR
VERSION:2.0
PRODID:JMS Hockey
X-PUBLISHED-TTL:P1W
BEGIN:VEVENT
UID:69e7d65634982
DTSTART:20130618T021500Z
SEQUENCE:0
TRANSP:OPAQUE
DTEND:20130618T034500Z
URL:http://jmshockey.com/games/5175
LOCATION:Eden Prairie Comm Ctr
SUMMARY:Intermediate Game at Eden Prairie Comm Ctr
CLASS:PUBLIC
DTSTAMP:20260421T145606Z
END:VEVENT
END:VCALENDAR