BEGIN:VCALENDAR
VERSION:2.0
PRODID:JMS Hockey
X-PUBLISHED-TTL:P1W
BEGIN:VEVENT
UID:69e7cf1dd6295
DTSTART:20130611T021500Z
SEQUENCE:0
TRANSP:OPAQUE
DTEND:20130611T034500Z
URL:http://jmshockey.com/games/5173
LOCATION:Eden Prairie Comm Ctr
SUMMARY:Intermediate Game at Eden Prairie Comm Ctr
CLASS:PUBLIC
DTSTAMP:20260421T142517Z
END:VEVENT
END:VCALENDAR