BEGIN:VCALENDAR
VERSION:2.0
PRODID:JMS Hockey
X-PUBLISHED-TTL:P1W
BEGIN:VEVENT
UID:69e7d47312d3c
DTSTART:20130531T010000Z
SEQUENCE:0
TRANSP:OPAQUE
DTEND:20130531T023000Z
URL:http://jmshockey.com/games/5162
LOCATION:Maple Grove
SUMMARY:Lower Level Game at Maple Grove
CLASS:PUBLIC
DTSTAMP:20260421T144803Z
END:VEVENT
END:VCALENDAR