BEGIN:VCALENDAR
VERSION:2.0
PRODID:JMS Hockey
X-PUBLISHED-TTL:P1W
BEGIN:VEVENT
UID:69e7ca8366507
DTSTART:20130522T023000Z
SEQUENCE:0
TRANSP:OPAQUE
DTEND:20130522T040000Z
URL:http://jmshockey.com/games/5155
LOCATION:Burnsville Arena
SUMMARY:Lower Level Game at Burnsville Arena
CLASS:PUBLIC
DTSTAMP:20260421T140539Z
END:VEVENT
END:VCALENDAR