BEGIN:VCALENDAR
VERSION:2.0
PRODID:JMS Hockey
X-PUBLISHED-TTL:P1W
BEGIN:VEVENT
UID:69e7e6c1e6e79
DTSTART:20130615T013000Z
SEQUENCE:0
TRANSP:OPAQUE
DTEND:20130615T030000Z
URL:http://jmshockey.com/games/5144
LOCATION:Roseville Skating Center
SUMMARY:Lower Level Game at Roseville Skating Center
CLASS:PUBLIC
DTSTAMP:20260421T160609Z
END:VEVENT
END:VCALENDAR