BEGIN:VCALENDAR
VERSION:2.0
PRODID:JMS Hockey
X-PUBLISHED-TTL:P1W
BEGIN:VEVENT
UID:69e7c347cd26d
DTSTART:20130614T004500Z
SEQUENCE:0
TRANSP:OPAQUE
DTEND:20130614T021500Z
URL:http://jmshockey.com/games/5143
LOCATION:Roseville Skating Center
SUMMARY:Level 3 Game at Roseville Skating Center
CLASS:PUBLIC
DTSTAMP:20260421T133447Z
END:VEVENT
END:VCALENDAR