BEGIN:VCALENDAR
VERSION:2.0
PRODID:JMS Hockey
X-PUBLISHED-TTL:P1W
BEGIN:VEVENT
UID:69e79fa630211
DTSTART:20130524T023000Z
SEQUENCE:0
TRANSP:OPAQUE
DTEND:20130524T040000Z
URL:http://jmshockey.com/games/5129
LOCATION:Breck Anderson Arena
SUMMARY:Elite Game at Breck Anderson Arena
CLASS:PUBLIC
DTSTAMP:20260421T110246Z
END:VEVENT
END:VCALENDAR