BEGIN:VCALENDAR
VERSION:2.0
PRODID:JMS Hockey
X-PUBLISHED-TTL:P1W
BEGIN:VEVENT
UID:69e7ea34e3014
DTSTART:20130518T003000Z
SEQUENCE:0
TRANSP:OPAQUE
DTEND:20130518T020000Z
URL:http://jmshockey.com/games/5125
LOCATION:Augsburg
SUMMARY:Lower Level Game at Augsburg
CLASS:PUBLIC
DTSTAMP:20260421T162052Z
END:VEVENT
END:VCALENDAR