BEGIN:VCALENDAR
VERSION:2.0
PRODID:JMS Hockey
X-PUBLISHED-TTL:P1W
BEGIN:VEVENT
UID:69e7af5c8adb3
DTSTART:20130420T022000Z
SEQUENCE:0
TRANSP:OPAQUE
DTEND:20130420T035000Z
URL:http://jmshockey.com/games/5089
LOCATION:Doug Woog Arena (Wakota)
SUMMARY:Lower Level Game at Doug Woog Arena (Wakota)
CLASS:PUBLIC
DTSTAMP:20260421T120948Z
END:VEVENT
END:VCALENDAR