BEGIN:VCALENDAR
VERSION:2.0
PRODID:JMS Hockey
X-PUBLISHED-TTL:P1W
BEGIN:VEVENT
UID:69e7af4b60d72
DTSTART:20130824T014500Z
SEQUENCE:0
TRANSP:OPAQUE
DTEND:20130824T031500Z
URL:http://jmshockey.com/games/5087
LOCATION:Augsburg
SUMMARY:All level Game at Augsburg
CLASS:PUBLIC
DTSTAMP:20260421T120931Z
END:VEVENT
END:VCALENDAR