BEGIN:VCALENDAR
VERSION:2.0
PRODID:JMS Hockey
X-PUBLISHED-TTL:P1W
BEGIN:VEVENT
UID:69e7a3d7e4031
DTSTART:20130731T011500Z
SEQUENCE:0
TRANSP:OPAQUE
DTEND:20130731T024500Z
URL:http://jmshockey.com/games/5082
LOCATION:St Louis Park Rec Center
SUMMARY:Level 4 Game at St Louis Park Rec Center
CLASS:PUBLIC
DTSTAMP:20260421T112039Z
END:VEVENT
END:VCALENDAR