BEGIN:VCALENDAR
VERSION:2.0
PRODID:JMS Hockey
X-PUBLISHED-TTL:P1W
BEGIN:VEVENT
UID:69e7cbac0723d
DTSTART:20130724T011500Z
SEQUENCE:0
TRANSP:OPAQUE
DTEND:20130724T024500Z
URL:http://jmshockey.com/games/5081
LOCATION:St Louis Park Rec Center
SUMMARY:Level 4 Game at St Louis Park Rec Center
CLASS:PUBLIC
DTSTAMP:20260421T141036Z
END:VEVENT
END:VCALENDAR