BEGIN:VCALENDAR
VERSION:2.0
PRODID:JMS Hockey
X-PUBLISHED-TTL:P1W
BEGIN:VEVENT
UID:69e7b5e5c892b
DTSTART:20130612T011500Z
SEQUENCE:0
TRANSP:OPAQUE
DTEND:20130612T024500Z
URL:http://jmshockey.com/games/5069
LOCATION:St Louis Park Rec Center
SUMMARY:Level 4 Game at St Louis Park Rec Center
CLASS:PUBLIC
DTSTAMP:20260421T123741Z
END:VEVENT
END:VCALENDAR