BEGIN:VCALENDAR
VERSION:2.0
PRODID:JMS Hockey
X-PUBLISHED-TTL:P1W
BEGIN:VEVENT
UID:69e7d5298233c
DTSTART:20130427T021000Z
SEQUENCE:0
TRANSP:OPAQUE
DTEND:20130427T034000Z
URL:http://jmshockey.com/games/5065
LOCATION:Braemar Arena
SUMMARY:All level Game at Braemar Arena
CLASS:PUBLIC
DTSTAMP:20260421T145105Z
END:VEVENT
END:VCALENDAR