BEGIN:VCALENDAR
VERSION:2.0
PRODID:JMS Hockey
X-PUBLISHED-TTL:P1W
BEGIN:VEVENT
UID:69e7b3e19671d
DTSTART:20130521T024000Z
SEQUENCE:0
TRANSP:OPAQUE
DTEND:20130521T041000Z
URL:http://jmshockey.com/games/5047
LOCATION:St Thomas Ice Arena
SUMMARY:Elite Game at St Thomas Ice Arena
CLASS:PUBLIC
DTSTAMP:20260421T122905Z
END:VEVENT
END:VCALENDAR