BEGIN:VCALENDAR
VERSION:2.0
PRODID:JMS Hockey
X-PUBLISHED-TTL:P1W
BEGIN:VEVENT
UID:69e7b5e620b68
DTSTART:20130423T024000Z
SEQUENCE:0
TRANSP:OPAQUE
DTEND:20130423T041000Z
URL:http://jmshockey.com/games/5039
LOCATION:St Thomas Ice Arena
SUMMARY:Elite Game at St Thomas Ice Arena
CLASS:PUBLIC
DTSTAMP:20260421T123742Z
END:VEVENT
END:VCALENDAR