BEGIN:VCALENDAR
VERSION:2.0
PRODID:JMS Hockey
X-PUBLISHED-TTL:P1W
BEGIN:VEVENT
UID:69e7ea52d3773
DTSTART:20130406T010000Z
SEQUENCE:0
TRANSP:OPAQUE
DTEND:20130406T023000Z
URL:http://jmshockey.com/games/5032
LOCATION:Brooklyn Park
SUMMARY:All level Game at Brooklyn Park
CLASS:PUBLIC
DTSTAMP:20260421T162122Z
END:VEVENT
END:VCALENDAR