BEGIN:VCALENDAR
VERSION:2.0
PRODID:JMS Hockey
X-PUBLISHED-TTL:P1W
BEGIN:VEVENT
UID:69e7b17d85272
DTSTART:20130604T015000Z
SEQUENCE:0
TRANSP:OPAQUE
DTEND:20130604T032000Z
URL:http://jmshockey.com/games/5021
LOCATION:Doug Woog Arena (Wakota)
SUMMARY:Lower Level Game at Doug Woog Arena (Wakota)
CLASS:PUBLIC
DTSTAMP:20260421T121853Z
END:VEVENT
END:VCALENDAR