BEGIN:VCALENDAR
VERSION:2.0
PRODID:JMS Hockey
X-PUBLISHED-TTL:P1W
BEGIN:VEVENT
UID:69e7b2efc048d
DTSTART:20130815T004500Z
SEQUENCE:0
TRANSP:OPAQUE
DTEND:20130815T021500Z
URL:http://jmshockey.com/games/5018
LOCATION:Breck Anderson Arena
SUMMARY:Elite Game at Breck Anderson Arena
CLASS:PUBLIC
DTSTAMP:20260421T122503Z
END:VEVENT
END:VCALENDAR