BEGIN:VCALENDAR
VERSION:2.0
PRODID:JMS Hockey
X-PUBLISHED-TTL:P1W
BEGIN:VEVENT
UID:69e7ca7ea8644
DTSTART:20130801T004500Z
SEQUENCE:0
TRANSP:OPAQUE
DTEND:20130801T021500Z
URL:http://jmshockey.com/games/5014
LOCATION:Breck Anderson Arena
SUMMARY:Elite Game at Breck Anderson Arena
CLASS:PUBLIC
DTSTAMP:20260421T140534Z
END:VEVENT
END:VCALENDAR