BEGIN:VCALENDAR
VERSION:2.0
PRODID:JMS Hockey
X-PUBLISHED-TTL:P1W
BEGIN:VEVENT
UID:69e7b35cdfa05
DTSTART:20130716T023000Z
SEQUENCE:0
TRANSP:OPAQUE
DTEND:20130716T040000Z
URL:http://jmshockey.com/games/5009
LOCATION:Breck Anderson Arena
SUMMARY:All level Game at Breck Anderson Arena
CLASS:PUBLIC
DTSTAMP:20260421T122652Z
END:VEVENT
END:VCALENDAR