BEGIN:VCALENDAR
VERSION:2.0
PRODID:JMS Hockey
X-PUBLISHED-TTL:P1W
BEGIN:VEVENT
UID:69e7dd84820ee
DTSTART:20130709T023000Z
SEQUENCE:0
TRANSP:OPAQUE
DTEND:20130709T040000Z
URL:http://jmshockey.com/games/5007
LOCATION:Breck Anderson Arena
SUMMARY:All level Game at Breck Anderson Arena
CLASS:PUBLIC
DTSTAMP:20260421T152644Z
END:VEVENT
END:VCALENDAR