BEGIN:VCALENDAR
VERSION:2.0
PRODID:JMS Hockey
X-PUBLISHED-TTL:P1W
BEGIN:VEVENT
UID:69e7b34bc6172
DTSTART:20130621T023000Z
SEQUENCE:0
TRANSP:OPAQUE
DTEND:20130621T040000Z
URL:http://jmshockey.com/games/5003
LOCATION:Breck Anderson Arena
SUMMARY:Elite Game at Breck Anderson Arena
CLASS:PUBLIC
DTSTAMP:20260421T122635Z
END:VEVENT
END:VCALENDAR