BEGIN:VCALENDAR
VERSION:2.0
PRODID:JMS Hockey
X-PUBLISHED-TTL:P1W
BEGIN:VEVENT
UID:69e7cb44120fa
DTSTART:20130430T023000Z
SEQUENCE:0
TRANSP:OPAQUE
DTEND:20130430T040000Z
URL:http://jmshockey.com/games/4989
LOCATION:Breck Anderson Arena
SUMMARY:All level Game at Breck Anderson Arena
CLASS:PUBLIC
DTSTAMP:20260421T140852Z
END:VEVENT
END:VCALENDAR