BEGIN:VCALENDAR
VERSION:2.0
PRODID:JMS Hockey
X-PUBLISHED-TTL:P1W
BEGIN:VEVENT
UID:69e7d497e5d4d
DTSTART:20130520T013000Z
SEQUENCE:0
TRANSP:OPAQUE
DTEND:20130520T030000Z
URL:http://jmshockey.com/games/4973
LOCATION:Roseville Skating Center
SUMMARY:All level Game at Roseville Skating Center
CLASS:PUBLIC
DTSTAMP:20260421T144839Z
END:VEVENT
END:VCALENDAR