BEGIN:VCALENDAR
VERSION:2.0
PRODID:JMS Hockey
X-PUBLISHED-TTL:P1W
BEGIN:VEVENT
UID:69e7cae38142d
DTSTART:20130513T013000Z
SEQUENCE:0
TRANSP:OPAQUE
DTEND:20130513T030000Z
URL:http://jmshockey.com/games/4972
LOCATION:Roseville Skating Center
SUMMARY:All level Game at Roseville Skating Center
CLASS:PUBLIC
DTSTAMP:20260421T140715Z
END:VEVENT
END:VCALENDAR