BEGIN:VCALENDAR
VERSION:2.0
PRODID:JMS Hockey
X-PUBLISHED-TTL:P1W
BEGIN:VEVENT
UID:69e79d80a3728
DTSTART:20130510T023000Z
SEQUENCE:0
TRANSP:OPAQUE
DTEND:20130510T040000Z
URL:http://jmshockey.com/games/4970
LOCATION:Roseville Skating Center
SUMMARY:Level 3 Game at Roseville Skating Center
CLASS:PUBLIC
DTSTAMP:20260421T105336Z
END:VEVENT
END:VCALENDAR