BEGIN:VCALENDAR
VERSION:2.0
PRODID:JMS Hockey
X-PUBLISHED-TTL:P1W
BEGIN:VEVENT
UID:69e7ad74d5097
DTSTART:20130419T011500Z
SEQUENCE:0
TRANSP:OPAQUE
DTEND:20130419T024500Z
URL:http://jmshockey.com/games/4965
LOCATION:Roseville Skating Center
SUMMARY:Level 3 Game at Roseville Skating Center
CLASS:PUBLIC
DTSTAMP:20260421T120140Z
END:VEVENT
END:VCALENDAR