BEGIN:VCALENDAR
VERSION:2.0
PRODID:JMS Hockey
X-PUBLISHED-TTL:P1W
BEGIN:VEVENT
UID:69e7aece4a48a
DTSTART:20130405T011500Z
SEQUENCE:0
TRANSP:OPAQUE
DTEND:20130405T024500Z
URL:http://jmshockey.com/games/4961
LOCATION:Roseville Skating Center
SUMMARY:Level 3 Game at Roseville Skating Center
CLASS:PUBLIC
DTSTAMP:20260421T120726Z
END:VEVENT
END:VCALENDAR