BEGIN:VCALENDAR
VERSION:2.0
PRODID:JMS Hockey
X-PUBLISHED-TTL:P1W
BEGIN:VEVENT
UID:69e79a6925994
DTSTART:20130316T021500Z
SEQUENCE:0
TRANSP:OPAQUE
DTEND:20130316T034500Z
URL:http://jmshockey.com/games/4958
LOCATION:Roseville Skating Center
SUMMARY:Lower Level Game at Roseville Skating Center
CLASS:PUBLIC
DTSTAMP:20260421T104025Z
END:VEVENT
END:VCALENDAR