BEGIN:VCALENDAR
VERSION:2.0
PRODID:JMS Hockey
X-PUBLISHED-TTL:P1W
BEGIN:VEVENT
UID:69e7c16ba8a97
DTSTART:20130530T010000Z
SEQUENCE:0
TRANSP:OPAQUE
DTEND:20130530T023000Z
URL:http://jmshockey.com/games/4953
LOCATION:Maple Grove
SUMMARY:Level 3 Game at Maple Grove
CLASS:PUBLIC
DTSTAMP:20260421T132651Z
END:VEVENT
END:VCALENDAR