BEGIN:VCALENDAR
VERSION:2.0
PRODID:JMS Hockey
X-PUBLISHED-TTL:P1W
BEGIN:VEVENT
UID:69e79a1d4db25
DTSTART:20130524T010000Z
SEQUENCE:0
TRANSP:OPAQUE
DTEND:20130524T023000Z
URL:http://jmshockey.com/games/4952
LOCATION:Maple Grove
SUMMARY:Lower Level Game at Maple Grove
CLASS:PUBLIC
DTSTAMP:20260421T103909Z
END:VEVENT
END:VCALENDAR