BEGIN:VCALENDAR
VERSION:2.0
PRODID:JMS Hockey
X-PUBLISHED-TTL:P1W
BEGIN:VEVENT
UID:69e787c5c0f8f
DTSTART:20130523T010000Z
SEQUENCE:0
TRANSP:OPAQUE
DTEND:20130523T023000Z
URL:http://jmshockey.com/games/4951
LOCATION:Maple Grove
SUMMARY:Level 3 Game at Maple Grove
CLASS:PUBLIC
DTSTAMP:20260421T092053Z
END:VEVENT
END:VCALENDAR