BEGIN:VCALENDAR
VERSION:2.0
PRODID:JMS Hockey
X-PUBLISHED-TTL:P1W
BEGIN:VEVENT
UID:69e7bfc171990
DTSTART:20130412T023000Z
SEQUENCE:0
TRANSP:OPAQUE
DTEND:20130412T040000Z
URL:http://jmshockey.com/games/4945
LOCATION:Maple Grove
SUMMARY:Lower Level Game at Maple Grove
CLASS:PUBLIC
DTSTAMP:20260421T131945Z
END:VEVENT
END:VCALENDAR