BEGIN:VCALENDAR
VERSION:2.0
PRODID:JMS Hockey
X-PUBLISHED-TTL:P1W
BEGIN:VEVENT
UID:69e7c35ad2626
DTSTART:20130613T013000Z
SEQUENCE:0
TRANSP:OPAQUE
DTEND:20130613T030000Z
URL:http://jmshockey.com/games/4936
LOCATION:Minnetonka Ice Arena
SUMMARY:All level Game at Minnetonka Ice Arena
CLASS:PUBLIC
DTSTAMP:20260421T133506Z
END:VEVENT
END:VCALENDAR